{"text_format":"1","workbook":"xlsx","n_sheets":5,"sheets":["A","B","C","D","Info"],"not_rendered":{"charts":0,"images":2,"macros":1,"external_links":0,"defined_names":22,"comments":3,"pivot_tables":0},"unopened":[],"bounds":{"document_bytes":16777216,"sheet_cells":100000,"rows_first":2000,"rows_last":500,"rows_between":2000,"halvings":0,"cell_chars":16384,"cell_head_chars":4096},"cells_cut":0,"cells_raw":0,"read":"whole","date_system":"1900"}

{"sheet":"A","index":0,"n_rows":80,"n_cols":31,"rows_kept":80,"cut":false,"hidden":false,"merged":[[15,7,19,9],[25,7,31,9],[29,11,29,13],[32,7,34,8],[9,22,9,24],[32,11,32,13],[34,11,34,13],[31,12,31,13],[18,12,18,13],[20,12,20,13],[30,11,30,13],[22,11,22,13],[23,11,23,13],[23,7,23,8],[12,7,14,9],[24,7,24,8],[35,7,35,8],[35,11,35,13],[49,7,49,8],[52,7,53,8],[56,12,56,20],[55,12,55,20],[62,13,62,15],[63,13,63,15],[63,11,63,12],[50,11,50,13],[51,7,51,17],[52,12,52,20],[61,13,61,15],[61,20,61,22],[59,22,59,23],[54,7,55,8],[57,12,57,20],[56,7,57,8],[52,21,57,24],[53,12,53,20],[54,12,54,20],[5,16,5,17],[5,11,5,14],[7,11,7,16],[6,17,6,18],[61,11,61,12],[49,11,49,13],[33,12,33,13],[21,12,21,13],[14,12,14,13],[19,12,19,13],[3,11,3,17],[3,21,3,22],[4,21,4,22],[3,19,3,20],[4,19,4,20],[4,11,4,14],[4,7,4,8],[6,7,6,8],[12,12,12,13],[13,12,13,13],[5,7,5,8],[0,21,1,24],[6,21,6,22],[8,11,8,17],[9,11,9,17],[2,21,2,24],[2,13,2,20],[5,21,5,22],[3,23,3,24],[4,23,4,24],[2,7,2,11],[8,22,8,24],[5,23,5,24],[5,18,5,20],[6,19,6,20],[6,11,6,14],[7,22,7,24]]}
[]
[null,null,null,null," ",null,null,null,null,null,null,null,null,null,null,null,null,null,null,"\n\n"]
[null,null,null,null,null,null,null,null,null,null,null,null,null,"     Reiseregning (fra 22.06.2018) ",null,null,null,null,null,null,null,"Reisenummer"]
[null,null,null,null,null,null,null,"Etter og fornavn",null,null,null,null,null,null,null,null,null,null,"Fødselsnr.",null,null,"Ansattnr"]
[null,null,null,null,null,null,null,"Privatadresse",null,null,null,null,null,null,null,null,"Postnr.",null,"Poststed",null,null,"Klient "]
[null,null,null,null,null,null,null,"Stilling",null,null,null,null,null,null,null,null,"Bankkontonummer",null,null,null,null,"Firmakode"]
[null,null,null,null,null,null,null,"Virksomhet",null,null,null,null,null,null,null,null,"Avd/tj.sted",null,null,"Skattekommune",null,null,null," Trekk %",null,null,"Test på dato"]
[null,null,null,null,null,null,null,"Regulativ",null,null,null,null,null,null,null,null,null,"Region",null,"  Dato","  Kl.",null,{"$f":"IF(AND(AC28=1,AC34=10),\"Har ikke krav på komp.tillegg\",IF(AND(AC28>1,AC35=20),\"Antall komp.till. er for høyt\",\"\"))","v":""},null,null,null,{"$f":"IF(AND(T9<>\"\",T10<>\"\"),-1,1)","v":1},"Verdien 1 dersom fra og tildato er tomme"]
[null,null,null,null,null,null,null,"Reisemål",null,null,null,null,null,null,null,null,null,null,"  Utreise",null,null,"Ant. Kostdøgn",{"$f":"IF(AA18<0,\"Oppgitt antall kostdøgn er for høyt\",\"\")","v":""},null,null,null,{"$f":"IF(OR($T$9<42005,$T$9>42369),0,1)","v":0},"hvis 1 er utreise dato dato innen 2015"]
[null,null,null,null,null,null,null,"Reiseårsak",null,null,null,null,null,null,null,null,null,null,"  Retur",null,null,{"$f":"IF(AA8=1,0,IF(T9>T10,\"Sjekk dato\",T10-T9+AA15))","v":0},{"$f":"IF(AA8<>1,IF(AND(AA11<2,AA11>0),\"Satser for reise er fra 2015\",\"\"),\"\")","v":""},null,null,null,{"$f":"IF(OR($T$10<42005,$T$10>42369),0,1)","v":0},"hvis 1 er returreise innen 2015"]
[null,null,null,null,null,null,null,"Reiseutlegg / godtgjøringer",null,null,null,null,null,null,null,null,"Antall","Sats","Beløp","Konto","Koststed","K-elem.4","K-elem.5","K-elem.6","K-elem.7",null,{"$f":"SUM(AA9:AA10)","v":0},"hvis 2 er utreise og retur innen 2015"]
[null,null,null,null,null,null,null,null,null,null,1041,"      OVERFØRT  FRA  BAKSIDEN",null,null,null,null,"              ",null,{"$f":"IF(B!M39=0,0,B!M39)","v":0}]
[null,null,null,null,null,null,null,"Kostgodtgjøring uten overnatting, ulegitimert",null,null,"1048/1085","Innland","over 12 timer",null,null,null,null,{"$f":"IF(AND(Q13<>0,M13<>\"\"),VLOOKUP(M13,'C'!C8:F10,4),\"\")","v":""},{"$f":"IF(AND(Q13<>0,M13<>\"\"),+Q13*R13,0)","v":0},null,null,null,null,null,null,null,"Beregner kostdøgn",{"$f":"T10-T9","v":0},1]
[null,null,null,null,null,null,null,null,null,null,1042,"Utl. 6-12 timer",null,null,null,null,null,{"$f":"IF(M14<>0,((VLOOKUP(M14,'C'!$B$55:$D$219,3,FALSE))*0.5),\"\")","v":""},{"$f":"IF(M14<>0,+Q14*R14,0)","v":0},null,null,null,null,null,null,null,{"$f":"IF(AB13>0,(U10-U9)*24,0)","v":0},"Antall timer inn i nytt døgn"]
[null,null,null,null,null,null,null,null,null,null,1052,"Utl. > 12 timer",null,null,null,null,null,{"$f":"IF(M15<>0,((VLOOKUP(M15,'C'!$B$55:$D$219,3,FALSE))),\"\")","v":""},{"$f":"IF(M15<>0,+Q15*R15,0)","v":0},null,null,null,null,null,null,null,{"$f":"IF($AA$14>=6,1,0)","v":0},"Hvis 6 timer inn i nytt døgn, beregnes nytt kostdøgn"]
[null,null,null,null,null,null,null,"Kostgodtgjøring\n ved overnatting, \nulegitimert ",null,null,"1087/1075","Hotell innland",{"$f":"IF($Q$16>0,'C'!G48*$Q16+Q42,\"\")","v":""},{"$f":"IF($Q16>0,(('C'!$F$12-'C'!$G$48)*$Q16)+R42,\"\")","v":""},null,null,null,{"$f":"IF(Q16<>0,'C'!$F$12,\"\")","v":""},{"$f":"IF(Q16<>0,+Q16*R16,0)","v":0},null,null,null,null,null,null,null,{"$f":"V10","v":0},"Max. Beregnede kost døgn"]
[null,null,null,null,null,null,null,null,null,null,"1076/1075","Pensj. innland *",{"$f":"IF($Q$17>0,'C'!G15*$Q17+Q43,\"\")","v":""},{"$f":"IF($Q17>0,(('C'!$F$12-'C'!$G$15)*$Q17)+R43,\"\")","v":""},null,null,null,{"$f":"IF(Q17<>0,'C'!F12,\"\")","v":""},0,null,null,null,null,null,null,null,{"$f":"SUM(Q13:Q22)","v":0},"sum oppgitte kostdøgn"]
[null,null,null,null,null,null,null,null,null,null,"1073/1075","Hyb./br./pr innl*",{"$f":"IF($Q$18>0,('C'!G16*$Q18)+Q44,\"\")","v":""},{"$f":"IF($Q18>0,(('C'!$F$12-'C'!$G$16)*$Q18)+R44,\"\")","v":""},null,null,null,{"$f":"IF(Q18<>0,'C'!F12,\"\")","v":""},0,null,null,null,null,null,null,null,{"$f":"IF(Q13=1,0,AA16-AA17)","v":0},"Hvis negativt tall, Oppgitt for mange kostdøgn, skriver feilmelding"]
[null,null,null,null,null,null,null,null,null,null,1052,"Hotell utland",null,null,null,null,null,{"$f":"IF(M19<>0,VLOOKUP(M19,'C'!$B$55:$D$219,3,FALSE),\"\")","v":""},0,null,null,null,null,null,null,null,{"$f":"IF($AA$14>=12,1,0)","v":0},"Hvis 12 timer inn i nytt døgn, beregnes nytt kostdøgn for kompetansetillegg"]
[null,null,null,null,null,null,null,null,null,null,1052,"Hotell utland",null,null,null,null,null,{"$f":"IF(M20<>0,VLOOKUP(M20,'C'!$B$55:$D$219,3,FALSE),\"\")","v":""},0,null,null,null,null,null,null,null,"Hvis reisen varer mindre enn et døgn utbetales kompensasjonstillegg etter 12 timer"]
[null,null,null,null,null,null,null,{"$f":"IF(Q21>0,159*Q21,0)","v":0},{"$f":"IF(Q21>0,S21-H21,0)","v":0},null,"1076/1075","Pensj.utl. *",null,null,null,null,null,{"$f":"IF(M21<>0,VLOOKUP(M21,'C'!$B$55:$D$219,3,FALSE),\"\")","v":""},0,null,null,null,null,null,null,null,"Komp. Tillegg < 1 døgn",null,"kommentar","Hvis 12 timer inn i nytt døgn, får en nytt kompensasjonstilleggsdøgn ved reise under 12 timer"]
[null,null,null,null,null,null,null,{"$f":"IF(Q22>0,88*Q22,0)","v":0},{"$f":"IF(Q22>0,S22-H22,0)","v":0},null,"1073/1075","Hy./br./pr. utl *.",null,null,null,null,null,{"$f":"IF(M22<>0,VLOOKUP(M22,'C'!$B$55:$D$219,3,FALSE),\"\")","v":""},{"$f":"IF(Q22<>0,Q22*R22,0)","v":0},null,null,null,null,null,null,null,{"$f":"T9","v":"00:00:00"},"Startdato",{"$f":"IF(AND(AC28=1,AC27>=12),1,0)","v":0},"Reisen varer under et døgn, men mer enn 12 timer = 1 (0 dersom mindre enn 12 timer)"]
[null,null,null,null,null,null,null,null,null,null,null,"Innland: utgår fom 2015",null,null,null,null,null,{"$f":"IF(Q23<>0,'C'!F6,\"\")","v":""},0,null,null,null,null,null,null,null,null,null,{"$f":"IF(AND(#REF!=1,AC28>=12),1,0)","v":{"$error":"#REF!"}}]
[null,null,null,null,null,null,null,"Nattillegg, uleg.",null,null,{"$f":"+'C'!A17","v":1053},"Innland",null,null,null,null,null,{"$f":"IF(Q24<>0,'C'!F17,\"\")","v":""},0,null,null,null,null,null,null,null,{"$f":"$U$9*24","v":0},"start tidspunkt",{"$f":"AA25-AA24","v":0},"Antall timer mellom start-tidspukt og slutt-tidspunkt"]
[null,null,null,null,null,null,null,"Komp. Tillegg",null,null,{"$f":"+'C'!A13","v":1214},"Utland*",null,{"$f":"IF(Q25>0,IF(AC28=1,AC22,AC32),\"\")","v":""},null,null,null,{"$f":"IF(Q25<>0,'C'!F13,\"\")","v":""},0,null,null,null,null,null,null,null,{"$f":"$U$10*24","v":0},"slutttidspunkt"]
[null,null,null,null,null,null,null,"Eget skyssmiddel. \nSpesifiser reisen\n på baksiden.",null,null,{"$f":"'C'!A28","v":"1094/1096"},"Bil <10.000 km",{"$f":"'C'!C28*Q26","v":0},{"$f":"'C'!D28*Q26","v":0},null,null,null,{"$f":"'C'!F28","v":3.9},{"$f":"IF(Q26<>0,Q26*R26,0)","v":0}]
[null,null,null,null,null,null,null,null,null,null,"1202/1206","Bil utland <10.000 km",{"$f":"'C'!C30*Q27","v":0},{"$f":"'C'!D30*Q27","v":0},null,null,null,{"$f":"'C'!F30","v":3.9},{"$f":"IF(Q27<>0,Q27*R27,0)","v":0},null,null,null,null,null,null,null,{"$f":"IF(AC27>=12,\"Ja\",\"Nei\")","v":"Nei"},"sum",{"$f":"SUM(AC24:AC25)","v":0},"mer enn 12 timer totalt?"]
[null,null,null,null,null,null,null,null,null,null,{"$f":"'C'!A32","v":"1093/1095"},"EL-bil <10.000 km",{"$f":"'C'!C32*Q28","v":0},{"$f":"'C'!D32*Q28","v":0},null,null,null,{"$f":"'C'!F32","v":3.9},0,null,null,null,null,null,null,null,null,"reisen varer antall døgn :",{"$f":"$T$10-$T$9","v":0}]
[null,null,null,null,null,null,null,null,null,null,"1203/1225","EL-bil utland <10.000 km",{"$f":"'C'!C34*Q29","v":0},{"$f":"'C'!D34*Q29","v":0},null,null,null,{"$f":"'C'!F34","v":3.9},0,null,null,null,null,null,null,null,null,"sum reg. døgn utland  :",{"$f":"SUM(Q19:Q22)","v":0},"Hvis reisen over et døgn utbetales kompensasjonstillegg etter 12 timer inn i nytt døgn"]
[null,null,null,null,null,null,null,null,null,null,{"$f":"'C'!A27","v":1045},"Passasjertillegg (navn i merknadsfelt)",null,null,null,null,null,{"$f":"IF(Q30<>0,'C'!F27,\"\")","v":""},0,null,null,null,null,null,null,null,null,"Registrerte komp. Tillegg",{"$f":"Q25","v":0}]
[null,null,null,null,null,null,null,null,null,null,null,null,null,null,null,null,{"$f":"B!F22","v":0},{"$f":"IF(Q31>0,'C'!F36,\"\")","v":""},0,null,null,null,null,null,null,null,null,"Beregnet komp.till under et døgn ",{"$f":"AC22","v":0},{"$f":"IF(Q25>AC31,\"Bruker har ikke krav på komp.tillegg for reise under 1 døgn\")","v":false}]
[null,null,null,null,null,null,null,null,null,null,{"$f":"IF(AND(M32<>\"\",Q32<>\"\"),VLOOKUP(M32,B!$E$71:$P$79,6,FALSE))","v":false},"Annet",null,null,null,null,{"$f":"SUMIF(B!G4:H14,M32,B!I4:I14)","v":0},{"$f":"IF(AND(M32<>\"\",Q32<>0),VLOOKUP(M32,B!$E$71:$I$79,2,FALSE),\"\")","v":""},0,null,null,null,null,null,null,null,null,"Beregnet komp.till over et døgn ",{"$f":"IF(AC29<=$V$10,(AC29-1)+AA19,0)","v":-1},{"$f":"IF(AC32=0,\"Bruker har registrert for mange døgn utland enn startdato/sluttdato for reise tilsier\",\"ok\")","v":"ok"},"DENNE MÅ SJEKKES - BLIR FEIL HVIS BRUKER OPPGIR FEILE DØGN"]
[null,"sjekk at denne tabellen fungerer",null,null,null,null,null,"Opphold utover\n 28 døgn",null,null,1269,"Kostgodtgjøring innland",null,null,null,null,null,{"$f":"IF(Q33<>0,'C'!$F$20,\"\")","v":""},0]
[null,null,null,null,null,null,null,null,null,null,1058,"Kostgodtgj. Utland",null,null,null,null,null,{"$f":"IF(M34<>0,VLOOKUP(M34,'C'!$B$55:$D$219,3,FALSE)*0.75,\"\")","v":""},{"$f":"IF(M34<>0,+Q34*R34,0)","v":0},null,null,null,null,null,null,null,null,"Feilmelding komp tillegg under et døgn :",{"$f":"IF($Q$25>0,IF(AC22>=1,0,10))","v":false},{"$f":"IF(AC34=10, \"Feil - 10 Bruker har registrert komp tillegg men har ikke krav på under 1 døgn\",\"\")","v":""}]
[null,"Fratrekk for kost - satser",null,null,null,null,null,null,null,null,null,null,null,null,null,null,null,{"$f":"IF(Q35<>0,'C'!F17*0.75,\"\")","v":""},0,null,null,null,null,null,null,null,null,"Feilmelding komp tillegg over et døgn :",{"$f":"IF(AND($Q$25>0,$AC$29>=1),IF(AC32-Q25<0,20,0))","v":false},{"$f":"IF(AC35=20, \"Feil 20 - Bruker har registrert komp tillegg men har registrert flere enn han har krav på\",\"\")","v":""}]
[null,"% utland",0.2,0.3,0.5,null,null,"Andre godtgj.",null,null,null,null,null,null,null,null,null,null,0]
[null,"% Innland",0.2,0.3,0.5,null,null,"   TIL  SAMMEN",null,null,null,null,null,null,null,null,null,{"$f":"SUM($S$43:$S$44,$S$47:$S$48)","v":0},{"$f":"IF(SUM(S12:S36)<>0,SUM(S12:S36),0)","v":0}]
[null,"Sats","Frokost","Lunch","Middag","Sum",null,"Trekk for kost",null,null,null,"Frokost","Lunsj","Middag",null,null,"Trekkfri","Trekkpl."]
[{"$f":"L13","v":"Innland"},{"$f":"IF(AND($Q$13>0,$M$13<>\"\"),VLOOKUP($M$13,'C'!$C$8:$F$9,4),0)","v":0},{"$f":"ROUND(IF(AND(B39<>0,L39>0),($C$37*754)*L39,0),0)","v":0},{"$f":"ROUND(IF(M39>0,(754*D37),0),0)","v":0},{"$f":"IF(N39>0,(754*E37),0)","v":0},{"$f":"IF(SUM(C39:E39)>B39,B39,SUM(C39:E39))","v":0},null,"Uten overnatting",null,null,"1085/1048",null,null,null,null,null,null,null,{"$f":"-F39","v":0}]
[{"$f":"L14","v":"Utl. 6-12 timer"},{"$f":"IF(AND($Q$14<>0,$M$14<>\"\"),VLOOKUP(M14,'C'!$B$55:$D$219,3,FALSE)*0.5,0)","v":0},{"$f":"IF(L40>0,($B40*C$36*2),0)","v":0},null,{"$f":"IF(N40>0,($B40*E$36*2),0)","v":0},{"$f":"IF(SUM(C40:E40)>B40,B40,SUM(C40:E40))","v":0},null,"Utland 6-12 timer",null,null,1042,null,null,null,null,null,null,null,0]
["Utl. > 12 timer",{"$f":"IF(AND($Q$15<>0,$M$15<>\"\"),VLOOKUP(M15,'C'!$B$55:$D$219,3,FALSE),0)","v":0},{"$f":"IF(L41>0,($B41*C$36),0)","v":0},0,0,{"$f":"SUM(C41:E41)","v":0},null,"Utland > 12 timer",null,null,1052,null,null,null,null,null,null,null,{"$f":"-F41","v":0}]
["Hotell innland",{"$f":"IF(Q16<>\"\",'C'!$F$12,0)","v":0},{"$f":"ROUND(IF(AND(L42>0,$B42<>0),($B42*C$37)*L42,0),0)","v":0},{"$f":"ROUND(IF(AND(M42>0,$B42<>0),($B42*D$37)*M42,0),0)","v":0},{"$f":"IF(AND(N42>0,$B42<>\"\"),($B42*E$37)*N42,0)","v":0},{"$f":"SUM(C42:E42)","v":0},null,"Hotell innland",null,null,1087,null,null,null,null,null,{"$f":"$S42*Q80","v":0},{"$f":"$S42*R80","v":0},0]
["Pensj. innland *",{"$f":"IF(Q17<>\"\",'C'!$F$12,0)","v":0},{"$f":"ROUND(IF(AND(L43>0,$B43<>\"\"),($B43*C$37)*L43,0),0)","v":0},{"$f":"ROUND(IF(AND(M43>0,$B43<>\"\"),($B43*D$37)*M43,0),0)","v":0},{"$f":"IF(AND(N43>0,$B43<>\"\"),($B43*E$37)*N43,0)","v":0},{"$f":"SUM(C43:E43)","v":0},null,"Pensjonat innl.*",null,null,"1076/1075",null,null,null,null,null,{"$f":"$S43*Q70","v":0},{"$f":"$S43*R70","v":0},0]
["Hyb./br./pr innl*",{"$f":"IF(Q18<>\"\",'C'!$F$12,0)","v":0},{"$f":"ROUND(IF(AND(L44>0,$B44<>\"\"),($B44*C$37)*L44,0),0)","v":0},{"$f":"ROUND(IF(AND(M44>0,$B44<>\"\"),($B44*D$37)*M44,0),0)","v":0},0,0,null,"Hyb./br./pr. innl.*",null,null,"1073/1075",null,null,null,null,null,{"$f":"$S44*Q71","v":0},{"$f":"$S44*R71","v":0},0]
["Hotell utland",{"$f":"IF(AND($Q$19<>0,$M$19<>\"\"),VLOOKUP(M19,'C'!$B$55:$D$219,3,FALSE),0)","v":0},{"$f":"IF(AND(L45>0,C$36<>\"\"),($B45*C$36)*L45,0)","v":0},{"$f":"IF(AND(M45>0,D$36<>\"\"),($B45*D$36)*M45,0)","v":0},{"$f":"IF(AND(N45>0,E$36<>\"\"),($B45*E$36)*N45,0)","v":0},{"$f":"SUM(C45:E45)","v":0},null,"Hotell utland",null,null,1052,null,null,null,null,null,null,null,0]
["Hotell utland",{"$f":"IF(AND($Q$20<>0,$M$20<>\"\"),VLOOKUP(M20,'C'!$B$55:$D$219,3,FALSE),0)","v":0},{"$f":"IF(AND(L46>0,C$36<>\"\"),($B46*C$36)*L46,0)","v":0},{"$f":"IF(AND(M46>0,D$36<>\"\"),($B46*D$36)*M46,0)","v":0},{"$f":"IF(AND(N46>0,E$36<>\"\"),($B46*E$36)*N46,0)","v":0},{"$f":"SUM(C46:E46)","v":0},null,"Hotell utland",null,null,1052,null,null,null,null,null,null,null,{"$f":"-F46","v":0}]
["Pensj.utl. *",{"$f":"IF(AND($Q$21<>0,$M$21<>\"\"),VLOOKUP(M21,'C'!$B$55:$D$219,3,FALSE),0)","v":0},{"$f":"IF(AND(L47>0,C$36<>0),($B47*C$36)*L47,0)","v":0},0,0,0,null,"Pensjonat.utl.*",null,null,"1076/1075",null,null,null,null,null,{"$f":"IF(S47<>0,$S47*Q78,\"\")","v":""},{"$f":"IF(S47<>0,$S47*R78,\"\")","v":""},0]
["Hy./br./pr. utl *.",{"$f":"IF(AND($Q$22<>0,$M$22<>\"\"),VLOOKUP(M22,'C'!$B$55:$D$219,3,FALSE),0)","v":0},0,0,0,0,null,"Hybel./br./pr.utl. *",null,null,"1073/1075",null,null,null,null,null,{"$f":"IF(S48<>0,$S48*Q79,\"\")","v":""},{"$f":"IF(S48<>0,$S48*R79,\"\")","v":""},0]
[null,{"$f":"IF(Q23<>\"\",'C'!$F$12,0)","v":0},{"$f":"IF(AND(L49>0,$B49<>\"\"),($B49*C$37)*L49,0)","v":0},{"$f":"IF(AND(M49>0,$B49<>\"\"),($B49*D$37)*M49,0)","v":0},{"$f":"IF(AND(N49>0,$B49<>\"\"),($B49*E$37)*N49,0)","v":0},0,null,"   Sum reiseoppgjør",null,null,null,{"$f":"SUM(L39:L48)","v":0},{"$f":"SUM(M39:M48)","v":0},0,0,0,null,null,{"$f":"IF(SUM(S37:S48)<>0,SUM(S37:S48),0)","v":0}]
[null,null,null,null,null,null,null,"Annet trekk"]
[null,null,null,null,null,null,null,"Reiseforskudd utbet.sted",null,null,null,null,null,null,null," "]
[null,null,null,null,null,null,null," Totalsum (Trekkpliktige ytelser er merket med *)",null,null,null,null,null,null,null,null,null,null,{"$f":"IF(SUM(S49:S51)<>0,SUM(S49:S51),0)","v":0}]
[null,null,null,null,null,null,null,"Utstederens underskrift",null,null,null,null,"Jeg samtykker i at ev. skyldig beløp kan trekkes i lønn",null,null,null,null,null,null,null,null,"Satsene og beregningene er tatt med for å gi en omtrentlig oversikt over hva som vil bli utbetalt. Det er de satsene og beregningene som ligger i lønnssystemet som vil bli brukt ved utbetalingen av reiseregningen. Utbetalingsbeløpet kan bli mindre pga. forskuddstrekk."]
[]
[null,null,null,null,null,null,null,"Kontroll",null,null,null,"Dato","Sign."]
[]
[null,null,null,null,null,null,null,"Budsjett- disponering",null,null,null,"Dato","Sign."]
[]
[null,null,null,null,null,null,null,null,null,null,null,null,null,null,null,null,null,null,null,null,null,null,null,"2016-01-01"]
[]
[]
[null,null,null,null,null,null,null,null,"REGION",null,null,"ULEGITIMERT ",null,null,null,null,null,null,null,null,"ANDRE FREMKOMSTMIDLER",null,null,null,"REGULATIV"]
[null,null,null,null,null,null,null,null,null,null,null,"KOSTGODTGJØRELSE",null,null,null,null,null,null,null,null,null,null,null,null,"Tjenestereise"]
[null,null,null,null,null,null,null,null,"Tromsø",null,null,"MED OVERNATTING",null,null,null,null,null,null,null,null,null,null,{"$f":"'C'!F39","v":4},null,"Yrkesreise"]
[null,null,null,null,null,null,null,null,null,null,null,null,null,null,null,null,null,null,null,null,null,null,{"$f":"'C'!#REF!","v":{"$error":"#REF!"}},null,"Arbeidsreise"]
[null,null,null,null,null,null,null,null,null,null,null,"6-12 timer",null,"8 - 12 timer",null,null,null,"SAP",null,null,null,null,{"$f":"'C'!F43","v":4}]
[null,null,null,null,null,null,null,null,null,null,null,"over 12 timer",null,"over 12 timer",null,null,null,null,null,null,null,null,{"$f":"'C'!F45","v":1.7}]
[null,null,null,null,null,null,null,null,null,null,null,null,null,null,null,null,null,null,null,null,null,null,{"$f":"'C'!#REF!","v":{"$error":"#REF!"}}]
[null,null,null,null,null,null,null,null,null,null,{"$f":"'C'!F12","v":754},"Kostgodtjørelse","Skattefri","Skattepliktig",null,null,"% skattefri","% skpliktig","Total",null,null,null,{"$f":"'C'!F50","v":0}]
[null,null,null,null,null,null,null,null,null,null,{"$f":"SUM(M70:N70)","v":754},{"$f":"L17","v":"Pensj. innland *"},{"$f":"'C'!F15","v":159},{"$f":"$K$69-M70","v":595},null,null,{"$f":"M70/K70","v":0.21087533156498675},{"$f":"N70/K70","v":0.78912466843501328},{"$f":"SUM(Q70:R70)","v":1},null,null,null,{"$f":"'C'!F51","v":0}]
[null,null,null,null,null,null,null,null,null,null,{"$f":"SUM(M71:N71)","v":754},{"$f":"L18","v":"Hyb./br./pr innl*"},{"$f":"'C'!F16","v":88},{"$f":"$K$69-M71","v":666},null,null,{"$f":"M71/K71","v":0.11671087533156499},{"$f":"N71/K71","v":0.88328912466843501},{"$f":"SUM(Q71:R71)","v":1},null,null,null,{"$f":"'C'!F52","v":0}]
[null,null,null,null,null,null,null,null,null,null,0.2,"Frokost pensjonat",{"$f":"$M$70*K72","v":31.8},{"$f":"$N$70*K72","v":119},null,null,{"$f":"SUM(M72:P72)","v":150.80000000000001},null,null,null,null,null,{"$f":"'C'!F53","v":0}]
[null,null,null,null,null,null,null,null,null,null,0.3,"Lunch pensjonat",{"$f":"$M$70*K73","v":47.699999999999996},{"$f":"$N$70*K73","v":178.5},null,null,{"$f":"SUM(M73:P73)","v":226.2}]
[null,null,null,null,null,null,null,null,null,null,0.5,"Middag pensjonat",79.5,297.5,null,null,377,{"$f":"SUM(Q72:Q74)","v":754}]
[null,null,null,null,null,null,null,null,null,null,0.2,"Frokost brakke",{"$f":"$M$71*K75","v":17.600000000000001},{"$f":"$N$71*K75","v":133.20000000000002},null,null,150.80000000000001,null,null,null,null,null,{"$f":"'C'!F56","v":0}]
[null,null,null,null,null,null,null,null,null,null,0.3,"Lunch brakke",{"$f":"$M$71*K76","v":26.4},{"$f":"$N$71*K76","v":199.79999999999998},null,null,226.2]
[null,null,null,null,null,null,null,null,null,null,0.5,"Middag brakke",44,333,null,null,377,{"$f":"SUM(Q75:Q77)","v":754}]
[null,null,null,null,null,null,null,null,null,null,{"$f":"R21","v":""},{"$f":"L21","v":"Pensj.utl. *"},{"$f":"M70","v":159},{"$f":"IF(K78=\"\",\"\",K78-M78)","v":""},null,null,{"$f":"IF(K78=\"\",\"\",M78/K78)","v":""},{"$f":"IF(K78=\"\",\"\",N78/K78)","v":""},{"$f":"SUM(Q78:R78)","v":0}]
[null,null,null,null,null,null,null,null,null,null,{"$f":"R22","v":""},{"$f":"L22","v":"Hy./br./pr. utl *."},{"$f":"M71","v":88},{"$f":"IF(K79=\"\",\"\",K79-M79)","v":""},null,null,{"$f":"IF(K79=\"\",\"\",M79/K79)","v":""},{"$f":"IF(K79=\"\",\"\",N79/K79)","v":""},{"$f":"SUM(Q79:R79)","v":0}]
[null,null,null,null,null,null,null,null,null,null,754,"Hotell innland",{"$f":"'C'!G48","v":569},{"$f":"$K$69-M80","v":185},null,null,{"$f":"M80/K80","v":0.75464190981432355},{"$f":"N80/K80","v":0.24535809018567639},{"$f":"SUM(Q80:R80)","v":1}]

{"sheet":"B","index":1,"n_rows":79,"n_cols":22,"rows_kept":79,"cut":false,"hidden":false,"merged":[[11,2,11,3],[2,6,2,7],[8,6,8,7],[9,6,9,7],[10,6,10,7],[11,6,11,7],[3,6,3,7],[10,2,10,3],[3,2,3,3],[4,2,4,3],[1,9,1,12],[6,2,6,3],[7,2,7,3],[9,2,9,3],[8,2,8,3],[4,6,4,7],[5,6,5,7],[6,6,6,7],[7,6,7,7],[5,2,5,3],[12,2,12,3],[13,2,13,3],[23,9,23,11],[34,1,34,7],[33,1,33,7],[28,1,28,7],[24,1,24,7],[23,0,23,8],[25,1,25,7],[26,1,26,7],[27,1,27,7],[13,6,13,7],[12,6,12,7],[15,5,15,8],[52,0,57,12],[48,0,48,9],[29,1,29,7],[51,0,51,12],[35,1,35,7],[32,1,32,7],[42,1,42,8],[41,0,41,8],[44,1,44,8],[47,0,47,9],[49,0,49,9],[45,1,45,8],[43,1,43,8],[30,1,30,7],[41,9,41,11],[31,1,31,7]]}
[]
["   Reisespesifikasjon",null,null,null,null,null,null,null,null,"   Reiseutlegg"]
["  Dato","Klokke slett","Fra sted",null,"Til sted","Klokke slett","Type transportmiddel",null,"Km","Valuta","Beløp i valuta (el. NOK)"," Kurs","   Beløp","Melding",null,"Sats","Skatte-fritt","Skatte-pliktig","Km","Sum km godtgj.","Kontr","Km"]
[null,null,null,null,null,null,null,null,null,null,null,null,{"$f":"IF(P4>0,T4,IF(AND(K4<>0,L4<>0),K4*L4,K4))","v":0},{"$f":"IF(AND(U4>4,I4=\"\"),\"Fyll ut ant. km\",\"\")","v":""},null,{"$f":"IF(G4=\"\",0,VLOOKUP($G4,$E$62:$F$79,2,FALSE))","v":0},{"$f":"IF(H4=\"\",0,VLOOKUP($G4,$E$62:$F$79,2,FALSE))","v":0},0,{"$f":"IF(U4>4,I4,0)","v":0},{"$f":"P4*S4","v":0},{"$f":"IF(G4=\"\",0,VLOOKUP($G4,$E$62:$I$79,5,FALSE))","v":0},{"$f":"IF(U4>4,I4,0)","v":0}]
[null,null,null,null,null,null,null,null,null,null,null,null,{"$f":"IF(P5>0,T5,IF(AND(K5<>0,L5<>0),K5*L5,K5))","v":0},{"$f":"IF(AND(U5>4,I5=\"\"),\"Fyll ut ant. km\",\"\")","v":""},null,{"$f":"IF(G5=\"\",0,VLOOKUP($G5,$E$62:$F$79,2,FALSE))","v":0},{"$f":"IF(H5=\"\",0,VLOOKUP($G5,$E$62:$F$79,2,FALSE))","v":0},{"$f":"IF(I5=\"\",0,VLOOKUP($G5,$E$62:$F$79,2,FALSE))","v":0},{"$f":"IF(U5>4,I5,0)","v":0},{"$f":"P5*S5","v":0},{"$f":"IF(G5=\"\",0,VLOOKUP($G5,$E$62:$I$79,5,FALSE))","v":0},{"$f":"IF(U5>4,I5,0)","v":0}]
[null,null,null,null,null,null,null,null,null,null,null,null,0,"",null,0,0,0,0,0,0,0]
[null,null,null,null,null,null,null,null,null,null,null,null,0,"",null,0,0,0,0,0,0,0]
[null,null,null,null,null,null,null,null,null,null,null,null,0,"",null,0,0,0,0,0,0,0]
[null,null,null,null,null,null,null,null,null,null,null,null,0,"",null,0,0,0,0,0,0,0]
[null,null,null,null,null,null,null,null,null,null,null,null,0,"",null,0,0,0,0,0,0,0]
[null,null,null,null,null,null,null,null,null,null,null,null,0,"",null,0,0,0,0,0,0,0]
[null,null,null,null,null,null,null,null,null,null,null,null,0,"",null,0,0,0,0,0,0,0]
[null,null,null,null,null,null,null,null,null,null,null,null,0,"",null,0,0,0,0,0,0,0]
[null,null,null,null,null,null,null,null,null,null,null,null,0,"",null,0,0,0,0,0,0,0]
[null,null,null,null,null,null,null,null,null,null,null,"Delsum (ekskl. km godtgj.)",{"$f":"IF(S15>0,SUM(M4:M14)-T15,SUM(M4:M14))","v":0},null,null,null,null,null,{"$f":"SUM(S4:S14)","v":0},{"$f":"SUM(T4:T14)","v":0},{"$f":"SUM(M4:M14)","v":0},{"$f":"SUM(V4:V14)","v":0}]
["Dato: ",null,"Hjemmel for bruk av bil gitt av: ",null,null,null,null,null,null,null,null,null,null,null,null,null,null,null,null,"Sum km godtgj.",{"$f":"T15","v":0}]
[null,null,null,null,null,null,null,null,null,null,null,null,null,null,null,null,null,null,null,"Sum (eksk. km godtgj.)",{"$f":"U15-U16","v":0}]
[null,null,null,"Sum km bil <10.000 km",null,{"$f":"SUMIF($G$4:$G$14,E67,$I$4:$I$14)","v":0},"Sum km bil utland <10.000 km",null,{"$f":"SUMIF($G$4:$G$14,E71,$I$4:$I$14)","v":0},"Sum km Moped <125ccm",null,null,{"$f":"SUMIF($G$4:$G$14,E76,$I$4:$I$14)","v":0}]
[null,null,null,"Sum km bil >10.000 km",null,{"$f":"SUMIF($G$4:$G$14,E68,$I$4:$I$14)","v":0},"Sum km bil utland >10.000 km",null,{"$f":"SUMIF($G$4:$G$14,E72,$I$4:$I$14)","v":0},"Sum km Motorsykkel >125 ccm",null,null,{"$f":"SUMIF($G$4:$G$14,E77,$I$4:$I$14)","v":0},null,null,null,null,null,null,"Sum annet",{"$f":"SUM(M18:M21)","v":0}]
[null,null,null,"Sum km EL-bil <10.000 km",null,{"$f":"SUMIF($G$4:$G$14,E69,$I$4:$I$14)","v":0},"Sum km EL-bil utland <10.000 km",null,{"$f":"SUMIF($G$4:$G$14,E73,$I$4:$I$14)","v":0},"Sum km Båt < 50 hk",null,null,{"$f":"SUMIF($G$4:$G$14,E78,$I$4:$I$14)","v":0},null,null,null,null,null,null,"Sum utland",{"$f":"SUM(I18:I21)","v":0}]
[null,null,null,"Sum km EL-bil > 10.000 km",null,{"$f":"SUMIF($G$4:$G$14,E70,$I$4:$I$14)","v":0},"Sum km EL-bil utland >10.000 km",null,{"$f":"SUMIF($G$4:$G$14,E74,$I$4:$I$14)","v":0},"Sum km Båt > 50hk",null,null,{"$f":"SUMIF($G$4:$G$14,E79,$I$4:$I$14)","v":0},null,null,null,null,null,null,"Totalt",{"$f":"SUM(U19:U20)","v":0}]
[null,null,null,"Sum km bil Hjem-arbeid",null,{"$f":"SUMIF($G$4:$G$14,E75,$I$4:$I$14)","v":0},"Sum passasjertillegg",null,{"$f":"SUMIF($G$4:$G$14,E66,$I$4:$I$14)","v":0},null,null,null,null,null,{"$f":"SUMIF($G$4:$G$14,#REF!,$I$4:$I$14)","v":0}]
[]
["   Utlegg til overnatting, mat, bompenger m.m.",null,null,null,null,null,null,null,null," Valuta eller NOK"]
["  Dato","Spesifikasjon (Dersom du bor på hotell, skal navn og adr. oppgis)",null,null,null,null,null,null,"Papir- kvittering","Valuta","Beløp i valuta eller NOK","  Kurs","Beløp"]
[null,null,null,null,null,null,null,null,null,null,null,null,{"$f":"IF(AND(K26<>0,L26<>0),K26*L26,K26)","v":0}]
[null,null,null,null,null,null,null,null,null,null,null,null,{"$f":"IF(AND(K27<>0,L27<>0),K27*L27,K27)","v":0}]
[null,null,null,null,null,null,null,null,null,null,null,null,0]
[null,null,null,null,null,null,null,null,null,null,null,null,0]
[null,null,null,null,null,null,null,null,null,null,null,null,0]
[null,null,null,null,null,null,null,null,null,null,null,null,0]
[null,null,null,null,null,null,null,null,null,null,null,null,0]
[null,null,null,null,null,null,null,null,null,null,null,null,0]
[null,null,null,null,null,null,null,null,null,null,null,null,0]
[null,null,null,null,null,null,null,null,null,null,null,null,0]
[null,null,null,null,null,null,null,null,null,null,null,null,0]
["   ","   ",null,null,null,null,null,null,null,null,null,"Delsum",{"$f":"IF(SUM(M26:M36)<>0,SUM(M26:M36),0)","v":0}]
[]
[null,null,null,"  Reiseutlegg - overføres automatisk til forsiden",null,null,null,null,null,null,null,"Sum",{"$f":"IF(OR(M15<>0,M37<>0,M48<>0),M15+M37+M48,0)","v":0}]
[]
[]
["  Betalt av arbeidsgiver (beløp må oppgis som negativt tall, da dette kommer til fratrekk på reiseregning)",null,null,null,null,null,null,null,null,"  Fremmed valuta"]
["  Dato","Spesifikasjon",null,null,null,null,null,null,null,"Valuta","Beløp i valuta eller NOK","  Kurs","Beløp"]
[null,null,null,null,null,null,null,null,null,null,null,null,{"$f":"IF(AND(K44<>0,L44<>0),K44*L44,K44)","v":0}]
[null,null,null,null,null,null,null,null,null,null,null,null,{"$f":"IF(AND(K45<>0,L45<>0),K45*L45,K45)","v":0}]
[null,null,null,null,null,null,null,null,null,null,null,null,{"$f":"IF(AND(K46<>0,L46<>0),K46*L46,K46)","v":0}]
[]
["   Overnatting (Navn på og sted for hotell, pensjonat e.a. (ikke privat).)",null,null,null,null,null,null,null,null,null,null,"Delsum",{"$f":"SUM(M44:M46)","v":0}]
["Dersom navn og sted på overnattingsstedet ikke oppgis, vil det bli trukket skatt for det beløpet som overstiger Skattedirektoratets forskuddssatser for hybel/brakke med kokemuligheter."]
[]
[]
["   Merknader (Navn på passasjerer må oppgis her.)"]
[]
[]
[]
[]
[]
[]
[]
[]
["Tidsintervall","Kontroll","JA/NEI","Kontroll","Plukkliste transp.type","Sats bil","Skattefritt","Skattepliktig","Kontroll","TT-kode"]
[null,null,null,1,"Taxi",0,null,null,1]
["5-9 timer",null,"Ja",2,"Fly",0,null,null,2]
["9-12 timer",null,"Nei",3,"Tog",0,null,null,3]
["over 12 timer",null,null,4,"Buss",0,null,null,4]
[null,null,null,5,"Passasjer",{"$f":"'C'!F27","v":1},null,null,5]
[null,null,null,6,"Bil <10.000km",{"$f":"'C'!F28","v":3.9},{"$f":"'C'!C28","v":3.5},{"$f":"'C'!$D28","v":0.4},6,{"$f":"'C'!A28","v":"1094/1096"}]
[null,null,null,7,"Bil >10.000km",{"$f":"'C'!$F$29","v":3.9},{"$f":"'C'!C29","v":3.5},{"$f":"'C'!$D29","v":0},7,{"$f":"'C'!A29","v":1097}]
[null,null,null,8,"EL-bil  <10.000km",{"$f":"'C'!F32","v":3.9},{"$f":"'C'!C32","v":3.5},{"$f":"'C'!D32","v":0.4},8,{"$f":"'C'!A32","v":"1093/1095"}]
[null,null,null,9,"EL-bil  >10.000km",{"$f":"'C'!F33","v":3.9},{"$f":"'C'!C33","v":3.5},{"$f":"'C'!D33","v":0.4},9,{"$f":"'C'!A33","v":"1221/1223"}]
[null,null,null,10,"Bil utland <10.000km",{"$f":"'C'!F30","v":3.9},{"$f":"'C'!C30","v":3.5},{"$f":"'C'!D30","v":0.4},10,{"$f":"'C'!A30","v":"1202/1206"}]
[null,null,null,11,"Bil utland >10.000km",{"$f":"'C'!F31","v":3.9},{"$f":"'C'!C31","v":3.5},{"$f":"'C'!D31","v":0},11,{"$f":"'C'!A31","v":1208}]
[null,null,null,12,"EL-bil utland <10.000km",{"$f":"'C'!F34","v":3.9},{"$f":"'C'!C34","v":3.5},{"$f":"'C'!D34","v":0.4},12,{"$f":"'C'!A34","v":"1203/1225"}]
[null,null,null,13,"El_bil utland >10.000km",{"$f":"'C'!F35","v":3.9},{"$f":"'C'!C35","v":3.5},{"$f":"'C'!D35","v":0},13,{"$f":"'C'!A35","v":1222}]
[null,null,null,14,"Bil hjem-arbeid",{"$f":"'C'!F36","v":1.6},{"$f":"'C'!C36","v":1.6},{"$f":"'C'!D36","v":0},14,{"$f":"'C'!A36","v":1094}]
[null,null,null,15,"Moped <125 ccm",{"$f":"'C'!F37","v":1.6},{"$f":"'C'!C37","v":1.6},{"$f":"'C'!D37","v":0},15,{"$f":"'C'!A37","v":1061}]
[null,null,null,16,"Motorsykkel >125 ccm",{"$f":"'C'!F38","v":2.95},{"$f":"'C'!C38","v":2.95},{"$f":"'C'!D38","v":0},16,{"$f":"'C'!A38","v":1063}]
[null,null,null,17,"Båt <50hk",{"$f":"'C'!F39","v":4},{"$f":"'C'!C39","v":4},{"$f":"'C'!D39","v":0},17,{"$f":"'C'!A39","v":1067}]
[null,null,null,18,"Båt >50hk",{"$f":"'C'!F40","v":7.5},{"$f":"'C'!C40","v":7.5},{"$f":"'C'!D40","v":0},18,{"$f":"'C'!A40","v":1068}]

{"sheet":"C","index":2,"n_rows":240,"n_cols":15,"rows_kept":240,"cut":false,"hidden":false,"merged":[[53,9,53,11],[53,12,53,14]]}
[]
[]
[]
[]
["TT-koder","      SATSTYPE",null,null,null,"Sats FOM 22.06.18","Sats FOM 22.06.18","Maks % av godtgjørelse","Kommentarer, endringer fra 2014 til 2016"]
["utgår","Administrativ forpleining (utgått 2015)",null,null,null,0,null,null,"Adminstrativ forpleining innland utgår fom 2015"]
["utgår","Administrativ forpleining utland (utgått 2016)",null,null,null,0,null,null,"Adminstrativ forpleining utland (kr 100 - fom 2015, utgår fra 1/1-2016)"]
[1048,"Innland, kostgodtgj. u/overnatting","6-12 timer",null,null,297,297,null,"Innenlands kostgodgjøring endret til 6 til 12 timer i 2015, ny sats 22.06.18"]
[1085,"Innland, kostgodgj. u/overnatting","over 12 timer",null,null,552,552,null,"over 12 timer, ny sats fra 22.06.18"]
["utgår","Innland, kostgodgj. u/overnatting (utgått 2015)",null,null,null,0,null,null,"Kostgodtgjøring innland 9-12 timer utgår i 2015"]
[null,"Grense for legitimerte overnattingsutgifter, innland",null,null,null,1800]
[1087,"Innland, over 12 kostgodtgj m/overnatting","over 12 timer",null,null,754,754,null,"ny sats 22.06.18"]
[1214,"Kompensasjonstillegg, utland",null,null,null,515,515,null,"Per 1/1-2017 er dette kr. 491,- Ny sats 22.06.18"]
[]
[1076,"Trekkfri kostgodtgjørelse for pensjonat",null,null,null,159,159,null,"Her er kun kr. 159 (fra 2018) skattefritt, resten må det skattes av (gjelder både innland og utland)"]
[1073,"Trekkfri kostgodtgjørelse hybel/brakke/priv",null,null,null,88,88,null,"Her er kun kr. 88 (fra 2018) skattefritt, resten må det skattes av (gjelder både innland og utland)"]
[1053,"Innland, ulegitimertnattillegg",null,null,null,430,430]
[null,"Innland, kostgodtgjøring beordring 0-28 døgn",null,null,null,754,754,null,"Dette brukes ikke, men UiB bruker også kost utover 28 døgn (75%) - feltarbeid"]
[null,"Innland, ulegitimert overnatting beordring 0-28 døgn",null,null,null,430,430,null,"Dette brukes ikke, men UiB bruker også natt-tillegg utover 28 døgn (90%)-feltarbeid"]
[1269,"Innland, kostgodtgjørelse beording over 28 døgn",null,null,null,195,null,null,"9.3 Særavtale for reiser utenlands for statens regning,  (kostgodtgjørelse reduseres med 25% av det landet de landet de er i)"]
[null,"Trekk, frokost innland dagreise",null,null,null,{"$f":"ROUND(20%*754,0)","v":151},"20% av 754"]
[null,"Trekk, lunsj, innland dagreise",null,null,null,{"$f":"ROUND(30%*754,0)","v":226},"30% av 754"]
[null,"Trekk, middag, innland dagreise",null,null,null,{"$f":"50%*754","v":377},"50% av 754"]
[null,"Trekk prosent frokost innland",null,null,null,0.2,0.2]
[null,"Trekk prosent lunsj innland",null,null,null,0.3,0.3]
[null,"Trekk prosent middag innland",null,null,null,0.5,0.5]
[1045,"Passasjertillegg","Skattefritt","Skattepliktig",null,1]
["1094/1096","Bil km-godtgjørelse 0-10000 km",3.5,0.4,null,3.9,3.9]
[1097,"Bil km-godtgjørelse over 10000 km *",3.5,0,null,3.9,3.9]
["1202/1206","Bil utland: kilometergodtgjørelse < 10.000",3.5,0.4,null,3.9,3.9]
[1208,"Bil utland: kilometergodtgjørelse > 10.000",3.5,null,null,3.9,3.9]
["1093/1095","EL-bil km.godtgj. 0-10.000 km",3.5,0.4,null,3.9,3.9]
["1221/1223","EL-bil km.godtgj. > 10.000 km",3.5,0.4,null,3.9,3.9]
["1203/1225","EL-bil utland km.godtgj.  0-10.000 km",3.5,0.4,null,3.9,3.9]
[1222,"EL-bil utland km.godtgj.  > 10.000 km",3.5,0,null,3.9,3.9]
[1094,"Bil hjem - arbeid",{"$f":"F36","v":1.6},0,null,1.6,null,null,"Brukes ikke"]
[1061,"Moped < 125 ccm km. Godtgjørelse",{"$f":"F37","v":1.6},0,null,1.6]
[1063,"Motorsykkel >125 ccm km.godtgj. ",{"$f":"F38","v":2.95},0,null,2.95]
[1067,"Båt < 50 hk km.godtgj.",{"$f":"F39","v":4},0,null,4]
[1068,"Båt > 50 hk km.godtgj.",{"$f":"F40","v":7.5},0,null,7.5]
["1200/1205","Bil kilometergodtgjørelse i Tromsø 0-10.000",3.5,0.5,null,4]
["1201/1224","Bil kilometergodtgjørelse Tromsø > 10.000",3.5,0.5,null,4]
[1066,"Andre fremkomstmidler km.godtgj.",{"$f":"F43","v":4},null,null,4]
[1065,"Tillegg: Skogs- og anleggsvei",null,null,null,1]
[null,"Tillegg: Snøscooter",null,null,null,1.7,null,null,"utgikk 2016"]
[1064,"Tillegg: Tilhenger",null,null,null,7.5]
[1062,"   Tillegg",null,null,null,1]
[1087,"   Trekkfrie satser hotell",null,null,null,null,569,null,"Ny sats 01.01.18"]
[]
[null,null,null,null,1065]
[null,null,null,null,1062]
[null,null,null,null,1066]
[]
[null,null,null,null,null,null,null,null,null,"Pensjon utland",null,null,"Hybel/brakke/privat innkv. Utland"]
[1,null,"Makssatser Natt (utgått)","Kost","Nye satser fra 22.06.18",null,null,null,null,"TT-kode","Skattefritt","Skattepliktig","TT-kode","Skattefritt","Skattepliktig"]
[117,"Europa:",null,null,null,null,null,null,null,"1076/1075",null,null,"1073/1075"]
[118,"Albania",1520,330,330,null,null,null,null,"1076/1075",159,{"$f":"D57-K57","v":171},"1073/1075",88,{"$f":"D57-N57","v":242}]
[119,"Belgia",2100,920,920,null,null,null,null,"1076/1075",159,761,"1073/1075",88,832]
[120,"Bosnia og Hercegovina",800,480,480,null,null,null,null,"1076/1075",159,321,"1073/1075",88,392]
[121,"Bulgaria",900,520,520,null,null,null,null,"1076/1075",159,361,"1073/1075",88,432]
[122,"Danmark",1700,1190,1190,null,null,null,null,"1076/1075",159,1031,"1073/1075",88,1102]
[123,"  København",1750,"1190","1190",null,null,null,null,"1076/1075",159,1031,"1073/1075",88,1102]
[124,"Estland",1000,660,660,null,null,null,null,"1076/1075",159,501,"1073/1075",88,572]
[125,"Finland",1500,950,950,null,null,null,null,"1076/1075",159,791,"1073/1075",88,862]
[126,"Frankrike",1600,750,750,null,null,null,null,"1076/1075",159,591,"1073/1075",88,662]
[127,"  Paris",2800,930,930,null,null,null,null,"1076/1075",159,771,"1073/1075",88,842]
[128,"Hellas",1100,770,770,null,null,null,null,"1076/1075",159,611,"1073/1075",88,682]
[129,"Hviterussland",1200,370,370,null,null,null,null,"1076/1075",159,211,"1073/1075",88,282]
[130,"Irland",1700,890,890,null,null,null,null,"1076/1075",159,731,"1073/1075",88,802]
[131,"Island",2100,1240,1240,null,null,null,null,"1076/1075",159,1081,"1073/1075",88,1152]
[null,"Italia",2100,760,760,null,null,null,null,"1076/1075",159,601,"1073/1075",88,672]
[null,"Kosovo",700,370,370,null,null,null,null,"1076/1075",159,211,"1073/1075",88,282]
[132,"Kroatia",1750,600,600,null,null,null,null,"1076/1075",159,441,"1073/1075",88,512]
[null,"Kypros",1800,740,740,null,null,null,null,"1076/1075",159,581,"1073/1075",88,652]
[133,"Latvia",1000,670,670,null,null,null,null,"1076/1075",159,511,"1073/1075",88,582]
[134,"Liechtenstein",1900,1290,1290,null,null,null,null,"1076/1075",159,1131,"1073/1075",88,1202]
[135,"Litauen",1000,520,520,null,null,null,null,"1076/1075",159,361,"1073/1075",88,432]
[136,"Luxembourg",1600,920,920,null,null,null,null,"1076/1075",159,761,"1073/1075",88,832]
[137,"Makedonia",1100,450,450,null,null,null,null,"1076/1075",159,291,"1073/1075",88,362]
[138,"Malta",1650,690,690,null,null,null,null,"1076/1075",159,531,"1073/1075",88,602]
[139,"Moldova",1400,340,340,null,null,null,null,"1076/1075",159,181,"1073/1075",88,252]
[140,"Monaco",2800,1080,1080,null,null,null,null,"1076/1075",159,921,"1073/1075",88,992]
[141,"Montenegro",1300,570,570,null,null,null,null,"1076/1075",159,411,"1073/1075",88,482]
[142,"Nederland",1500,770,770,null,null,null,null,"1076/1075",159,611,"1073/1075",88,682]
[143,"Polen",1900,600,600,null,null,null,null,"1076/1075",159,441,"1073/1075",88,512]
[144,"Portugal",2500,620,620,null,null,null,null,"1076/1075",159,461,"1073/1075",88,532]
[145,"Romania",1500,470,470,null,null,null,null,"1076/1075",159,311,"1073/1075",88,382]
[146,"Russland",1600,510,510,null,null,null,null,"1076/1075",159,351,"1073/1075",88,422]
[147,"  Moskva",3200,710,710,null,null,null,null,"1076/1075",159,{"$f":"D89-K89","v":551},"1073/1075",88,{"$f":"D89-N89","v":622}]
[148,"  St. Petersburg",1600,590,590,null,null,null,null,"1076/1075",159,431,"1073/1075",88,502]
[149,"Serbia",1500,510,510,null,null,null,null,"1076/1075",159,351,"1073/1075",88,422]
[151,"Slovakia",1000,650,650,null,null,null,null,"1076/1075",159,491,"1073/1075",88,562]
[152,"Slovenia",1900,670,670,null,null,null,null,"1076/1075",159,511,"1073/1075",88,582]
[153,"Spania",1700,720,720,null,null,null,null,"1076/1075",159,561,"1073/1075",88,632]
[154,"Storbritannia",1400,750,750,null,null,null,null,"1076/1075",159,591,"1073/1075",88,662]
[155,"  London",2400,900,900,null,null,null,null,"1076/1075",159,741,"1073/1075",88,812]
[156,"Sveits",1450,1070,1070,null,null,null,null,"1076/1075",159,911,"1073/1075",88,982]
[157,"  Genève",4000,1270,1270,null,null,null,null,"1076/1075",159,1111,"1073/1075",88,1182]
[158,"  Zürich",3000,1290,1290,null,null,null,null,"1076/1075",159,1131,"1073/1075",88,1202]
[159,"Sverige",1900,820,820,null,null,null,null,"1076/1075",159,661,"1073/1075",88,732]
[160,"Tjekkiske republikk",1800,540,540,null,null,null,null,"1076/1075",159,381,"1073/1075",88,452]
[161,"Tyskland",1900,760,760,null,null,null,null,"1076/1075",159,601,"1073/1075",88,672]
[162,"  Berlin",2250,850,850,null,null,null,null,"1076/1075",159,691,"1073/1075",88,762]
[163,"Ukraina",1400,430,430,null,null,null,null,"1076/1075",159,271,"1073/1075",88,342]
[164,"Ungarn",2000,590,590,null,null,null,null,"1076/1075",159,431,"1073/1075",88,502]
[165,"Østerrike",1400,830,830,null,null,null,null,"1076/1075",159,671,"1073/1075",88,742]
[166,"  Wien",1900,810,810,null,null,null,null,"1076/1075",159,651,"1073/1075",88,722]
[null,"Afrika:",null,null,null,null,null,null,null,"1076/1075",159,-159,"1073/1075",88,-88]
[null,"Algerie",1900,550,550,null,null,null,null,"1076/1075",159,{"$f":"D109-K109","v":391},"1073/1075",88,{"$f":"D109-N109","v":462}]
[3,"Angola",2650,1320,1320,null,null,null,null,"1076/1075",159,1161,"1073/1075",88,1232]
[4,"Benin",1550,670,670,null,null,null,null,"1076/1075",159,511,"1073/1075",88,582]
[5,"Botswana",1500,420,420,null,null,null,null,"1076/1075",159,261,"1073/1075",88,332]
[6,"Burundi",1000,430,430,null,null,null,null,"1076/1075",159,271,"1073/1075",88,342]
[null,"Egypt",2400,280,280,null,null,null,null,"1076/1075",159,121,"1073/1075",88,192]
[7,"Elfenbenskysten",1620,710,710,null,null,null,null,"1076/1075",159,551,"1073/1075",88,622]
[8,"Eritrea",1050,700,700,null,null,null,null,"1076/1075",159,541,"1073/1075",88,612]
[9,"Etiopia",2000,450,450,null,null,null,null,"1076/1075",159,291,"1073/1075",88,362]
[10,"Ghana",2300,630,630,null,null,null,null,"1076/1075",159,471,"1073/1075",88,542]
[11,"Kamerun",1800,700,700,null,null,null,null,"1076/1075",159,541,"1073/1075",88,612]
[12,"Kenya",1600,650,650,null,null,null,null,"1076/1075",159,491,"1073/1075",88,562]
[13,"Lesotho",1000,340,340,null,null,null,null,"1076/1075",159,{"$f":"D121-K121","v":181},"1073/1075",88,{"$f":"D121-N121","v":252}]
[14,"Madagaskar",900,350,350,null,null,null,null,"1076/1075",159,191,"1073/1075",88,262]
[15,"Malawi",1100,340,340,null,null,null,null,"1076/1075",159,181,"1073/1075",88,252]
[16,"Marokko",1800,540,540,null,null,null,null,"1076/1075",159,381,"1073/1075",88,452]
[17,"Mauritius",1150,570,570,null,null,null,null,"1076/1075",159,411,"1073/1075",88,482]
[18,"Mosambik",2100,410,410,null,null,null,null,"1076/1075",159,251,"1073/1075",88,322]
[19,"Namibia",1350,420,420,null,null,null,null,"1076/1075",159,261,"1073/1075",88,332]
[20,"Nigeria",3200,680,680,null,null,null,null,"1076/1075",159,521,"1073/1075",88,592]
[21,"Seychellene",2500,750,750,null,null,null,null,"1076/1075",159,591,"1073/1075",88,662]
[22,"Sudan ",1750,660,660,null,null,null,null,"1076/1075",159,501,"1073/1075",88,572]
[23,"Swasiland",1100,360,360,null,null,null,null,"1076/1075",159,201,"1073/1075",88,272]
[24,"Sør-Afrika",2500,440,440,null,null,null,null,"1076/1075",159,281,"1073/1075",88,352]
[null,"Sør-Sudan",1900,350,350,null,null,null,null,"1076/1075",159,191,"1073/1075",88,262]
[25,"Tanzania",1950,520,520,null,null,null,null,"1076/1075",159,361,"1073/1075",88,432]
[26,"Togo",1000,610,610,null,null,null,null,"1076/1075",159,451,"1073/1075",88,522]
[27,"Zambia",1350,570,570,null,null,null,null,"1076/1075",159,411,"1073/1075",88,482]
[28,"Zimbabwe",1300,740,740,null,null,null,null,"1076/1075",159,581,"1073/1075",88,652]
[29,"Øvrige områder",1700,580,580,null,null,null,null,"1076/1075",159,421,"1073/1075",88,492]
[30,"Amerika:",null,null,null,null,null,null,null,"1076/1075",159,-159,"1073/1075",88,-88]
[31,"Argentina",1600,710,710,null,null,null,null,"1076/1075",159,551,"1073/1075",88,622]
[32,"Bahamas",2000,1150,1150,null,null,null,null,"1076/1075",159,991,"1073/1075",88,1062]
[null,"Barbados",1450,1070,1070,null,null,null,null,"1076/1075",159,911,"1073/1075",88,982]
[33,"Bolivia",650,430,430,null,null,null,null,"1076/1075",159,271,"1073/1075",88,342]
[34,"Brasil",2200,640,640,null,null,null,null,"1076/1075",159,481,"1073/1075",88,552]
[35,"  Rio de Janeiro",3000,720,720,null,null,null,null,"1076/1075",159,561,"1073/1075",88,632]
[36,"Canada ",2300,790,790,null,null,null,null,"1076/1075",159,631,"1073/1075",88,702]
[37,"Chile",1500,590,590,null,null,null,null,"1076/1075",159,431,"1073/1075",88,502]
[38,"Colombia",2000,550,550,null,null,null,null,"1076/1075",159,391,"1073/1075",88,462]
[39,"Costa Rica",1000,650,650,null,null,null,null,"1076/1075",159,491,"1073/1075",88,562]
[40,"Cuba",1100,570,570,null,null,null,null,"1076/1075",159,411,"1073/1075",88,482]
[42,"El Salvador",1000,600,600,null,null,null,null,"1076/1075",159,441,"1073/1075",88,512]
[44,"Guatemala",1100,720,720,null,null,null,null,"1076/1075",159,561,"1073/1075",88,632]
[45,"Guyana",1200,690,690,null,null,null,null,"1076/1075",159,{"$f":"D153-K153","v":531},"1073/1075",88,{"$f":"D153-N153","v":602}]
[47,"Honduras",1200,490,490,null,null,null,null,"1076/1075",159,331,"1073/1075",88,402]
[null,"Jamaica",1200,700,700,null,null,null,null,"1076/1075",159,541,"1073/1075",88,612]
[48,"Mexico",2200,480,480,null,null,null,null,"1076/1075",159,321,"1073/1075",88,392]
[49,"Nicaragua",1200,530,530,null,null,null,null,"1076/1075",159,371,"1073/1075",88,442]
[50,"Panama",1400,650,650,null,null,null,null,"1076/1075",159,491,"1073/1075",88,562]
[51,"Paraguay",1200,460,460,null,null,null,null,"1076/1075",159,301,"1073/1075",88,372]
[52,"Peru",1500,680,680,null,null,null,null,"1076/1075",159,521,"1073/1075",88,592]
[53,"Puerto Rico",1200,890,890,null,null,null,null,"1076/1075",159,731,"1073/1075",88,802]
[54,"Surinam",1000,460,460,null,null,null,null,"1076/1075",159,301,"1073/1075",88,372]
[55,"Uruguay",1350,750,750,null,null,null,null,"1076/1075",159,591,"1073/1075",88,662]
[56,"USA",1750,870,870,null,null,null,null,"1076/1075",159,711,"1073/1075",88,782]
[57,"  New York",3000,1170,1170,null,null,null,null,"1076/1075",159,1011,"1073/1075",88,1082]
[null,"San Francisco",2000,980,980,null,null,null,null,"1076/1075",159,821,"1073/1075",88,892]
[58,"  Washington DC",3100,990,990,null,null,null,null,"1076/1075",159,831,"1073/1075",88,902]
[59,"Venezuela",2400,1600,1600,null,null,null,null,"1076/1075",159,1441,"1073/1075",88,1512]
[60,"Øvrige områder",1700,740,740,null,null,null,null,"1076/1075",159,581,"1073/1075",88,652]
[61,"Asia:",null,null,null,null,null,null,null,"1076/1075",159,-159,"1073/1075",88,-88]
[62,"Afghanistan",2300,580,580,null,null,null,null,"1076/1075",159,421,"1073/1075",88,492]
[63,"Armenia",1400,470,470,null,null,null,null,"1076/1075",159,311,"1073/1075",88,382]
[64,"Aserbajdsjan",2650,500,500,null,null,null,null,"1076/1075",159,341,"1073/1075",88,412]
[65,"Bahrain",1650,820,820,null,null,null,null,"1076/1075",159,661,"1073/1075",88,732]
[66,"Bangladesh",3000,560,560,null,null,null,null,"1076/1075",159,401,"1073/1075",88,472]
[67,"Brunei",1000,510,510,null,null,null,null,"1076/1075",159,351,"1073/1075",88,422]
[69,"Filippinene",2100,580,580,null,null,null,null,"1076/1075",159,421,"1073/1075",88,492]
[70,"Forente arabiske emirater",1700,1000,1000,null,null,null,null,"1076/1075",159,841,"1073/1075",88,912]
[71,"Georgia",2200,390,390,null,null,null,null,"1076/1075",159,231,"1073/1075",88,302]
[72,"India",1700,520,520,null,null,null,null,"1076/1075",159,361,"1073/1075",88,432]
[74,"Indonesia",2600,550,550,null,null,null,null,"1076/1075",159,391,"1073/1075",88,462]
[75,"Iran",1600,630,630,null,null,null,null,"1076/1075",159,471,"1073/1075",88,542]
[76,"Israel",2900,1170,1170,null,null,null,null,"1076/1075",159,1011,"1073/1075",88,1082]
[78,"Japan",2200,770,770,null,null,null,null,"1076/1075",159,611,"1073/1075",88,682]
[null,"Jemen",1200,580,580,null,null,null,null,"1076/1075",159,{"$f":"D185-K185","v":421},"1073/1075",88,{"$f":"D185-N185","v":492}]
[79,"Jordan",2800,910,910,null,null,null,null,"1076/1075",159,751,"1073/1075",88,822]
[80,"Kambodsja",1650,570,570,null,null,null,null,"1076/1075",159,411,"1073/1075",88,482]
[81,"Kasakhstan",1750,450,450,null,null,null,null,"1076/1075",159,291,"1073/1075",88,362]
[82,"Kina",2000,750,750,null,null,null,null,"1076/1075",159,591,"1073/1075",88,662]
[83,"  Hong Kong",3100,920,920,null,null,null,null,"1076/1075",159,761,"1073/1075",88,832]
[84,"  Shanghai",2400,810,810,null,null,null,null,"1076/1075",159,651,"1073/1075",88,722]
[85,"Kuwait",1700,900,900,null,null,null,null,"1076/1075",159,741,"1073/1075",88,812]
[87,"Laos",1500,470,470,null,null,null,null,"1076/1075",159,311,"1073/1075",88,382]
[88,"Libanon",2200,910,910,null,null,null,null,"1076/1075",159,751,"1073/1075",88,822]
[89,"Malaysia",1400,420,420,null,null,null,null,"1076/1075",159,261,"1073/1075",88,332]
[90,"Maldivene",3000,490,490,null,null,null,null,"1076/1075",159,331,"1073/1075",88,402]
[91,"Myanmar (Burma)",1700,500,500,null,null,null,null,"1076/1075",159,341,"1073/1075",88,412]
[93,"Nord-Korea",1000,520,520,null,null,null,null,"1076/1075",159,361,"1073/1075",88,432]
[94,"Oman",2700,980,980,null,null,null,null,"1076/1075",159,821,"1073/1075",88,892]
[95,"Pakistan",2100,440,440,null,null,null,null,"1076/1075",159,281,"1073/1075",88,352]
[null,"Palestina",1400,920,920,null,null,null,null,"1076/1075",159,761,"1073/1075",88,832]
[96,"Qatar",1600,920,920,null,null,null,null,"1076/1075",159,761,"1073/1075",88,832]
[97,"Saudi-Arabia",2700,790,790,null,null,null,null,"1076/1075",159,631,"1073/1075",88,702]
[98,"Singapore",3250,810,810,null,null,null,null,"1076/1075",159,651,"1073/1075",88,722]
[99,"Sri Lanka",1200,440,440,null,null,null,null,"1076/1075",159,281,"1073/1075",88,352]
[101,"Sør-Korea",2000,880,880,null,null,null,null,"1076/1075",159,721,"1073/1075",88,792]
[103,"Taiwan",2700,680,680,null,null,null,null,"1076/1075",159,521,"1073/1075",88,592]
[104,"Thailand",1400,690,690,null,null,null,null,"1076/1075",159,531,"1073/1075",88,602]
[105,"Tyrkia",2000,460,460,null,null,null,null,"1076/1075",159,301,"1073/1075",88,372]
[106,"  Istanbul",2000,530,530,null,null,null,null,"1076/1075",159,371,"1073/1075",88,442]
[null,"Uzbekistan",1000,390,390,null,null,null,null,"1076/1075",159,231,"1073/1075",88,302]
[107,"Vietnam",1300,480,480,null,null,null,null,"1076/1075",159,321,"1073/1075",88,392]
[109,"Øst Timor",850,630,630,null,null,null,null,"1076/1075",159,471,"1073/1075",88,542]
[110,"Øvrige områder",2000,650,650,null,null,null,null,"1076/1075",159,491,"1073/1075",88,562]
[111,"Australia og Oceania:",null,null,null,null,null,null,null,"1076/1075",159,-159,"1073/1075",88,-88]
[112,"Australia",2000,960,960,null,null,null,null,"1076/1075",159,801,"1073/1075",88,872]
[114,"New Zealand",1250,810,810,null,null,null,null,"1076/1075",159,{"$f":"D217-K217","v":651},"1073/1075",88,{"$f":"D217-N217","v":722}]
[115,"Papua Ny-Guinea",2500,660,660,null,null,null,null,"1076/1075",159,501,"1073/1075",88,572]
[116,"Øvrige områder",1900,810,810,null,null,null,null,"1076/1075",159,651,"1073/1075",88,722]
[]
[]
[]
[]
[null,"FAD har administrativt fastsatt satser for følgende områder/land slik:"]
[]
[null,"Andorra: ",null,"som for Spania "]
[null,"Azorene",null,"som for Portugal "]
[null,"Færøyene: ",null,"som for Danmark "]
[null,"Gibraltar: ",null,"som for Storbritannia "]
[null,"Grønland: ",null,"som for Danmark "]
[null,"Guernsey (inkl. Alderney og Sark): ",null,"som for Storbritannia "]
[null,"Jersey: ",null,"som for Storbritannia "]
[null,"Kanariøyene: ",null,"som for Spania "]
[null,"Madeira: ",null,"som for Portugal "]
[null,"Man: ",null,"som for Storbritannia "]
[null,"Nord-Irland: ",null,"som for Storbritannia "]
[null,"San Marino: ",null,"som for Italia "]
[null,"Vatikanstaten: ",null,"som for Italia "]
[null,"Åland: ",null,"som for Finland"]
[null,"Øvrige land/områders satser tilsvarer \"Øvrige områder\" under den enkelte verdensdel."]

{"sheet":"D","index":3,"n_rows":0,"n_cols":0,"rows_kept":0,"cut":false,"hidden":true,"merged":[]}

{"sheet":"Info","index":4,"n_rows":29,"n_cols":2,"rows_kept":29,"cut":false,"hidden":true,"merged":[]}
[]
[]
[null,"Hvordan korrigere satser, ev. skattefrie beløp"]
[]
["Beskyttelse","Regneboken som ligger ute er beskyttet mot endring i låste felt"]
[null,"Beskyttelsen må tas av (se makro for reiseregning)"]
[]
["C-arket","Alle satser som skal oppdateres korrigeres på side C (reiser, kjøregodtgjørelse mm)"]
[null,"Alle formler henviser til sater i dette regnearket, så når det er oppdatert her skal det være oppdatert i hele regnearket"]
[]
["B-arket","Satser og formler for beregninger ligger også i B-arket"]
[null,"Disse er skjult og må vises vha Vis-kommando"]
[null,"Marker start og slutt på kolonner som er skjult, høyre-klikk og velg vis"]
[null,"Beregner korrekt kjøregodkjørelse og plukklister for valg i listebokser"]
[]
["Datavalidering","Plukklistene er satt på vha Datavalidering"]
[null,"Marker området hvor det står listebokser, Velg Data på filmenyen"]
[null,"Da finner du verktøyet \"Datavalidering\" på dette båndet (se bilde)"]
[]
["A-arket","Dette arket inneholder også skjulte kolonner til venstre og høyre i skjemaet"]
[null,"Disse er skjult og må vises vha Vis-kommando"]
[null,"Beregner korrekt kostgodtgjørelse mm"]
[]
[]
[]
[]
[]
["Før ark legges ","Sett på arkbeskyttelse"]
["på web","Test at regnearket fungerer som det skal"]